BEGIN:VCALENDAR
VERSION:2.0
PRODID:-//usheartlandchina.org - ECPv6.15.20//NONSGML v1.0//EN
CALSCALE:GREGORIAN
METHOD:PUBLISH
X-WR-CALNAME:usheartlandchina.org
X-ORIGINAL-URL:https://usheartlandchina.org
X-WR-CALDESC:Events for usheartlandchina.org
REFRESH-INTERVAL;VALUE=DURATION:PT1H
X-Robots-Tag:noindex
X-PUBLISHED-TTL:PT1H
BEGIN:VTIMEZONE
TZID:America/Chicago
BEGIN:DAYLIGHT
TZOFFSETFROM:-0600
TZOFFSETTO:-0500
TZNAME:CDT
DTSTART:20240310T080000
END:DAYLIGHT
BEGIN:STANDARD
TZOFFSETFROM:-0500
TZOFFSETTO:-0600
TZNAME:CST
DTSTART:20241103T070000
END:STANDARD
BEGIN:DAYLIGHT
TZOFFSETFROM:-0600
TZOFFSETTO:-0500
TZNAME:CDT
DTSTART:20250309T080000
END:DAYLIGHT
BEGIN:STANDARD
TZOFFSETFROM:-0500
TZOFFSETTO:-0600
TZNAME:CST
DTSTART:20251102T070000
END:STANDARD
BEGIN:DAYLIGHT
TZOFFSETFROM:-0600
TZOFFSETTO:-0500
TZNAME:CDT
DTSTART:20260308T080000
END:DAYLIGHT
BEGIN:STANDARD
TZOFFSETFROM:-0500
TZOFFSETTO:-0600
TZNAME:CST
DTSTART:20261101T070000
END:STANDARD
END:VTIMEZONE
BEGIN:VTIMEZONE
TZID:America/New_York
BEGIN:DAYLIGHT
TZOFFSETFROM:-0500
TZOFFSETTO:-0400
TZNAME:EDT
DTSTART:20220313T070000
END:DAYLIGHT
BEGIN:STANDARD
TZOFFSETFROM:-0400
TZOFFSETTO:-0500
TZNAME:EST
DTSTART:20221106T060000
END:STANDARD
BEGIN:DAYLIGHT
TZOFFSETFROM:-0500
TZOFFSETTO:-0400
TZNAME:EDT
DTSTART:20230312T070000
END:DAYLIGHT
BEGIN:STANDARD
TZOFFSETFROM:-0400
TZOFFSETTO:-0500
TZNAME:EST
DTSTART:20231105T060000
END:STANDARD
BEGIN:DAYLIGHT
TZOFFSETFROM:-0500
TZOFFSETTO:-0400
TZNAME:EDT
DTSTART:20240310T070000
END:DAYLIGHT
BEGIN:STANDARD
TZOFFSETFROM:-0400
TZOFFSETTO:-0500
TZNAME:EST
DTSTART:20241103T060000
END:STANDARD
END:VTIMEZONE
BEGIN:VEVENT
DTSTART;TZID=America/Chicago:20250825T090000
DTEND;TZID=America/Chicago:20250825T170000
DTSTAMP:20260425T065546
CREATED:20250714T204200Z
LAST-MODIFIED:20250814T183116Z
UID:10000146-1756112400-1756141200@usheartlandchina.org
SUMMARY:The Heartland Connect for Trade & Investment
DESCRIPTION:The Heartland Connect for Trade & Investment taking place on August 25th in Chicago is an exclusive gathering that is specifically designed for local and business leaders from both the U.S. and China to explore new partnerships and opportunities in the Heartland Region through three industry roundtables around agriculture\, food\, and health. \nIn addition to these roundtables\, additional programming may be added on August 26th based on attendee interest and participation levels. \nPlease email contact@usheartlandchina.org to inquire
URL:https://usheartlandchina.org/events/the-heartland-connect-for-trade-investment/
LOCATION:Private: Chicago\, Illinois\, United States
CATEGORIES:Member Forums
ATTACH;FMTTYPE=image/jpeg:https://usheartlandchina.org/wp-content/uploads/2025/07/Heartland-connect-2025-Event-banner.jpg
END:VEVENT
BEGIN:VEVENT
DTSTART;TZID=America/Chicago:20250225T120000
DTEND;TZID=America/Chicago:20250225T130000
DTSTAMP:20260425T065546
CREATED:20250207T180227Z
LAST-MODIFIED:20250210T183649Z
UID:10000136-1740484800-1740488400@usheartlandchina.org
SUMMARY:Heartland Connect: A Virtual Community Gathering
DESCRIPTION:Join us for Heartland Connect\, a virtual convening designed to provide a platform for our diverse stakeholders across the heartland to share their views and experiences related to U.S.-China Relations and its impact in the Heartland region and beyond. \nRegister here
URL:https://usheartlandchina.org/events/virtual-community-gathering/
CATEGORIES:Virtual Programs
ATTACH;FMTTYPE=image/jpeg:https://usheartlandchina.org/wp-content/uploads/2025/02/Virtual-Community-Gathering.jpg
ORGANIZER;CN="United States Heartland China Association":MAILTO:webinars@usheartlandchina.org
END:VEVENT
BEGIN:VEVENT
DTSTART;TZID=America/New_York:20230227T200000
DTEND;TZID=America/New_York:20230227T210000
DTSTAMP:20260425T065546
CREATED:20230214T224758Z
LAST-MODIFIED:20230214T225148Z
UID:10000114-1677528000-1677531600@usheartlandchina.org
SUMMARY:New Year\, New Opportunities: Business Success in China
DESCRIPTION:China’s reopening after three years of zero COVID policy is set to restore growth optimism among businesses. As travel resumes and sales bounce back\, businesses are expecting a brighter outlook this year. To add to this momentum\, the Chinese government has also signaled its renewed focus on economic growth. In the post-COVID reality\, how could businesses capture emerging opportunities in China while navigating the Chinese unique business environment? To provide members with insight on doing business in China in 2023\, AmCham Shanghai and the United States Heartland China Association (USHCA) are co-organizing a webinar with China-based executives on how to succeed in China’s new business environment. The webinar includes a panel discussion with Eddy Chan (Fedex China President)\, Eric Zheng (AmCham Shanghai President)\, and other U.S.-China business leaders. \nThis is an off-the-record webinar and limited to members only of AmCham Shanghai and USHCA. \nClick here to register: https://us02web.zoom.us/webinar/register/6516732911897/WN_5j6OH1AiQ6KAncjjekJrsA
URL:https://usheartlandchina.org/events/new-year-new-opportunities-business-success-in-china/
CATEGORIES:Business in China
ATTACH;FMTTYPE=image/png:https://usheartlandchina.org/wp-content/uploads/2023/02/NYNO.png
ORGANIZER;CN="United States Heartland China Association":MAILTO:webinars@usheartlandchina.org
END:VEVENT
END:VCALENDAR