BEGIN:VCALENDAR
VERSION:2.0
PRODID:-//usheartlandchina.org - ECPv6.15.20//NONSGML v1.0//EN
CALSCALE:GREGORIAN
METHOD:PUBLISH
X-WR-CALNAME:usheartlandchina.org
X-ORIGINAL-URL:https://usheartlandchina.org
X-WR-CALDESC:Events for usheartlandchina.org
REFRESH-INTERVAL;VALUE=DURATION:PT1H
X-Robots-Tag:noindex
X-PUBLISHED-TTL:PT1H
BEGIN:VTIMEZONE
TZID:America/Chicago
BEGIN:DAYLIGHT
TZOFFSETFROM:-0600
TZOFFSETTO:-0500
TZNAME:CDT
DTSTART:20240310T080000
END:DAYLIGHT
BEGIN:STANDARD
TZOFFSETFROM:-0500
TZOFFSETTO:-0600
TZNAME:CST
DTSTART:20241103T070000
END:STANDARD
BEGIN:DAYLIGHT
TZOFFSETFROM:-0600
TZOFFSETTO:-0500
TZNAME:CDT
DTSTART:20250309T080000
END:DAYLIGHT
BEGIN:STANDARD
TZOFFSETFROM:-0500
TZOFFSETTO:-0600
TZNAME:CST
DTSTART:20251102T070000
END:STANDARD
BEGIN:DAYLIGHT
TZOFFSETFROM:-0600
TZOFFSETTO:-0500
TZNAME:CDT
DTSTART:20260308T080000
END:DAYLIGHT
BEGIN:STANDARD
TZOFFSETFROM:-0500
TZOFFSETTO:-0600
TZNAME:CST
DTSTART:20261101T070000
END:STANDARD
END:VTIMEZONE
BEGIN:VEVENT
DTSTART;VALUE=DATE:20250427
DTEND;VALUE=DATE:20250428
DTSTAMP:20260420T041111
CREATED:20250403T212145Z
LAST-MODIFIED:20250403T212145Z
UID:10000142-1745712000-1745798399@usheartlandchina.org
SUMMARY:2025 Greater China Business Conference
DESCRIPTION:The 2025 Greater China Business Conference\, hosted at the Kellogg Global Hub\, will take place April 27th. As one of the premier student conferences in North America focusing on business in Greater China and leadership within the Chinese business community\, GCBC has brought together global leaders\, scholars\, and innovators for the past 18 years. Early Bird – General Admission tickets are currently available for $100 on their Eventbrite. \nDon’t miss this exclusive deal: USHCA community members are being offered a $160 ticket (General Admission + Exclusive Speaker Reception on Saturday Night). Contact cheney.chen@kellogg.northwestern.edu directly for a private registration link.
URL:https://usheartlandchina.org/events/2025-greater-china-business-conference/
LOCATION:Kellogg Global Hub\, 2211 North Campus Drive\, Evanston\, IL\, 60208\, United States
CATEGORIES:Business in China,Partner Events
ATTACH;FMTTYPE=image/jpeg:https://usheartlandchina.org/wp-content/uploads/2025/04/Kellogg-Conference-Banner.jpeg
END:VEVENT
END:VCALENDAR