BEGIN:VCALENDAR
VERSION:2.0
PRODID:-//usheartlandchina.org - ECPv6.15.20//NONSGML v1.0//EN
CALSCALE:GREGORIAN
METHOD:PUBLISH
X-WR-CALNAME:usheartlandchina.org
X-ORIGINAL-URL:https://usheartlandchina.org
X-WR-CALDESC:Events for usheartlandchina.org
REFRESH-INTERVAL;VALUE=DURATION:PT1H
X-Robots-Tag:noindex
X-PUBLISHED-TTL:PT1H
BEGIN:VTIMEZONE
TZID:America/New_York
BEGIN:DAYLIGHT
TZOFFSETFROM:-0500
TZOFFSETTO:-0400
TZNAME:EDT
DTSTART:20200308T070000
END:DAYLIGHT
BEGIN:STANDARD
TZOFFSETFROM:-0400
TZOFFSETTO:-0500
TZNAME:EST
DTSTART:20201101T060000
END:STANDARD
BEGIN:DAYLIGHT
TZOFFSETFROM:-0500
TZOFFSETTO:-0400
TZNAME:EDT
DTSTART:20210314T070000
END:DAYLIGHT
BEGIN:STANDARD
TZOFFSETFROM:-0400
TZOFFSETTO:-0500
TZNAME:EST
DTSTART:20211107T060000
END:STANDARD
BEGIN:DAYLIGHT
TZOFFSETFROM:-0500
TZOFFSETTO:-0400
TZNAME:EDT
DTSTART:20220313T070000
END:DAYLIGHT
BEGIN:STANDARD
TZOFFSETFROM:-0400
TZOFFSETTO:-0500
TZNAME:EST
DTSTART:20221106T060000
END:STANDARD
END:VTIMEZONE
BEGIN:VEVENT
DTSTART;TZID=America/New_York:20211110T180000
DTEND;TZID=America/New_York:20211110T210000
DTSTAMP:20260422T024503
CREATED:20211104T015500Z
LAST-MODIFIED:20211104T015805Z
UID:10000073-1636567200-1636578000@usheartlandchina.org
SUMMARY:Navigating Competitive Interdependence
DESCRIPTION:SupChina is hosting their 2021 NEXTChina Conference on November 10th and 11th. Register here \nThe first day is free and online. However\, if you would like to attend the in-person event in NYC on the 11th\, USHCA community members can use the promo code NC21USHCA to receive %50 off full-priced tickets. \nCan the two countries maintain global stability while pursuing their own national interests? Yes they can\, suggests NEXTChina 2021 Keynote speaker and veteran diplomat Ryan Hass in his new book\, STRONGER: Adapting America’s China Strategy in an Age of Competitive Interdependence.  \n‍\nWhat is competitive interdependence? At NEXTChina 2021\, Hass and a range of leading China-focused executives\, thought leaders\, and decision-makers will share their unique perspectives on how to navigate the enormous business and geopolitical complications of the coming decade. In intimate networking sessions\, speakers and attendees will connect their work and aspirations with what’s NEXT in Sino-global relations. \nRegister Today
URL:https://usheartlandchina.org/events/navigating-competitive-interdependence/2021-11-10/
CATEGORIES:Partner Events
ATTACH;FMTTYPE=image/png:https://usheartlandchina.org/wp-content/uploads/2021/11/NC21-Event-Banner.png
END:VEVENT
BEGIN:VEVENT
DTSTART;TZID=America/New_York:20211111T150000
DTEND;TZID=America/New_York:20211111T180000
DTSTAMP:20260422T024503
CREATED:20211104T015500Z
LAST-MODIFIED:20211104T015805Z
UID:10000074-1636642800-1636653600@usheartlandchina.org
SUMMARY:Navigating Competitive Interdependence
DESCRIPTION:SupChina is hosting their 2021 NEXTChina Conference on November 10th and 11th. Register here \nThe first day is free and online. However\, if you would like to attend the in-person event in NYC on the 11th\, USHCA community members can use the promo code NC21USHCA to receive %50 off full-priced tickets. \nCan the two countries maintain global stability while pursuing their own national interests? Yes they can\, suggests NEXTChina 2021 Keynote speaker and veteran diplomat Ryan Hass in his new book\, STRONGER: Adapting America’s China Strategy in an Age of Competitive Interdependence.  \n‍\nWhat is competitive interdependence? At NEXTChina 2021\, Hass and a range of leading China-focused executives\, thought leaders\, and decision-makers will share their unique perspectives on how to navigate the enormous business and geopolitical complications of the coming decade. In intimate networking sessions\, speakers and attendees will connect their work and aspirations with what’s NEXT in Sino-global relations. \nRegister Today
URL:https://usheartlandchina.org/events/navigating-competitive-interdependence/2021-11-11/
CATEGORIES:Partner Events
ATTACH;FMTTYPE=image/png:https://usheartlandchina.org/wp-content/uploads/2021/11/NC21-Event-Banner.png
END:VEVENT
END:VCALENDAR