BEGIN:VCALENDAR
VERSION:2.0
PRODID:-//usheartlandchina.org - ECPv6.15.20//NONSGML v1.0//EN
CALSCALE:GREGORIAN
METHOD:PUBLISH
X-WR-CALNAME:usheartlandchina.org
X-ORIGINAL-URL:https://usheartlandchina.org
X-WR-CALDESC:Events for usheartlandchina.org
REFRESH-INTERVAL;VALUE=DURATION:PT1H
X-Robots-Tag:noindex
X-PUBLISHED-TTL:PT1H
BEGIN:VTIMEZONE
TZID:UTC
BEGIN:STANDARD
TZOFFSETFROM:+0000
TZOFFSETTO:+0000
TZNAME:UTC
DTSTART:20210101T000000
END:STANDARD
END:VTIMEZONE
BEGIN:VTIMEZONE
TZID:America/New_York
BEGIN:DAYLIGHT
TZOFFSETFROM:-0500
TZOFFSETTO:-0400
TZNAME:EDT
DTSTART:20210314T070000
END:DAYLIGHT
BEGIN:STANDARD
TZOFFSETFROM:-0400
TZOFFSETTO:-0500
TZNAME:EST
DTSTART:20211107T060000
END:STANDARD
BEGIN:DAYLIGHT
TZOFFSETFROM:-0500
TZOFFSETTO:-0400
TZNAME:EDT
DTSTART:20220313T070000
END:DAYLIGHT
BEGIN:STANDARD
TZOFFSETFROM:-0400
TZOFFSETTO:-0500
TZNAME:EST
DTSTART:20221106T060000
END:STANDARD
BEGIN:DAYLIGHT
TZOFFSETFROM:-0500
TZOFFSETTO:-0400
TZNAME:EDT
DTSTART:20230312T070000
END:DAYLIGHT
BEGIN:STANDARD
TZOFFSETFROM:-0400
TZOFFSETTO:-0500
TZNAME:EST
DTSTART:20231105T060000
END:STANDARD
END:VTIMEZONE
BEGIN:VEVENT
DTSTART;TZID=UTC:20220811T090000
DTEND;TZID=UTC:20220811T100000
DTSTAMP:20260420T172512
CREATED:20220811T223939Z
LAST-MODIFIED:20220811T223939Z
UID:10000107-1660208400-1660212000@usheartlandchina.org
SUMMARY:USHCA Member Forum
DESCRIPTION:
URL:https://usheartlandchina.org/events/ushca-member-forum-2/
CATEGORIES:Member Forums
END:VEVENT
BEGIN:VEVENT
DTSTART;TZID=America/New_York:20220815T200000
DTEND;TZID=America/New_York:20220815T213000
DTSTAMP:20260420T172512
CREATED:20220811T222532Z
LAST-MODIFIED:20220811T222532Z
UID:10000104-1660593600-1660599000@usheartlandchina.org
SUMMARY:Finding Security: U.S.-China Ag. Trade in a Changing World
DESCRIPTION:Despite growing competition between the U.S. and China\, trade volume between the two countries remains significant and robust. U.S. agricultural exports to China\, in particular\, have seen tremendous growth. But the world is changing dramatically and the impact is felt locally in the Heartland\, where a majority of the U.S. agricultural exports to China are produced. \nAs a global food security crisis is looming large over the horizon\, what is the future of U.S.-China Ag trade\, and how can the two countries collaborate to address global food security?  This August\, USHCA will have experts from both the U.S. and China to explore these questions and share insights on the impact of inflation\, domestic production shifts\, and the changes taking place in U.S.-China Ag trade and its impact to Ag producers in the Heartland.
URL:https://usheartlandchina.org/events/finding-security-u-s-china-ag-trade-in-a-changing-world/
CATEGORIES:Way Forward Webinars
ATTACH;FMTTYPE=image/jpeg:https://usheartlandchina.org/wp-content/uploads/2022/07/Finding-Security_poster_v2-2.jpg
ORGANIZER;CN="United States Heartland China Association":MAILTO:webinars@usheartlandchina.org
END:VEVENT
BEGIN:VEVENT
DTSTART;TZID=America/New_York:20220823T200000
DTEND;TZID=America/New_York:20220823T210000
DTSTAMP:20260420T172512
CREATED:20220811T223157Z
LAST-MODIFIED:20220811T223822Z
UID:10000105-1661284800-1661288400@usheartlandchina.org
SUMMARY:Third Space Reunion
DESCRIPTION:Join us for a reunion of our Third Space members!
URL:https://usheartlandchina.org/events/third-space-reunion/
CATEGORIES:Third Space Story Circle
END:VEVENT
END:VCALENDAR