BEGIN:VCALENDAR
VERSION:2.0
PRODID:-//usheartlandchina.org - ECPv6.15.20//NONSGML v1.0//EN
CALSCALE:GREGORIAN
METHOD:PUBLISH
X-WR-CALNAME:usheartlandchina.org
X-ORIGINAL-URL:https://usheartlandchina.org
X-WR-CALDESC:Events for usheartlandchina.org
REFRESH-INTERVAL;VALUE=DURATION:PT1H
X-Robots-Tag:noindex
X-PUBLISHED-TTL:PT1H
BEGIN:VTIMEZONE
TZID:UTC
BEGIN:STANDARD
TZOFFSETFROM:+0000
TZOFFSETTO:+0000
TZNAME:UTC
DTSTART:20210101T000000
END:STANDARD
END:VTIMEZONE
BEGIN:VEVENT
DTSTART;TZID=UTC:20220728T080000
DTEND;TZID=UTC:20220728T170000
DTSTAMP:20260420T193522
CREATED:20221220T225828Z
LAST-MODIFIED:20221220T225828Z
UID:10000060-1658995200-1659027600@usheartlandchina.org
SUMMARY:Dragon Boat Friendship Alliance
DESCRIPTION:Calling all Heartland Dragon Boat enthusiasts!\n\n\n\n\n\n\n\n\n\n\n\n\n\n\n\n\nIn partnership with the city of Foshan in Guangdong China\, which has a long tradition of Dragon Boat Festival and Competition\, USHCA\, along with many partners across the U.S. and China will launch the Dragon Boat Friendship Alliance on July 29th as part of the 2022 Guangdong International Youth Sports Dialogue. You can learn more about Foshan and its unique Dragon Boat tradition below:\n\nAbout Foshan’ s Dragon Boat Races–\n Zoom Webinar ID: 873 2549 6526\, Passcode: 620909
URL:https://usheartlandchina.org/events/dragon-boat-friendship-alliance/
ATTACH;FMTTYPE=image/png:https://usheartlandchina.org/wp-content/uploads/2022/12/dragon-boat-72922.png
END:VEVENT
END:VCALENDAR