BEGIN:VCALENDAR
VERSION:2.0
PRODID:-//usheartlandchina.org - ECPv6.15.20//NONSGML v1.0//EN
CALSCALE:GREGORIAN
METHOD:PUBLISH
X-WR-CALNAME:usheartlandchina.org
X-ORIGINAL-URL:https://usheartlandchina.org
X-WR-CALDESC:Events for usheartlandchina.org
REFRESH-INTERVAL;VALUE=DURATION:PT1H
X-Robots-Tag:noindex
X-PUBLISHED-TTL:PT1H
BEGIN:VTIMEZONE
TZID:America/New_York
BEGIN:DAYLIGHT
TZOFFSETFROM:-0500
TZOFFSETTO:-0400
TZNAME:EDT
DTSTART:20210314T070000
END:DAYLIGHT
BEGIN:STANDARD
TZOFFSETFROM:-0400
TZOFFSETTO:-0500
TZNAME:EST
DTSTART:20211107T060000
END:STANDARD
BEGIN:DAYLIGHT
TZOFFSETFROM:-0500
TZOFFSETTO:-0400
TZNAME:EDT
DTSTART:20220313T070000
END:DAYLIGHT
BEGIN:STANDARD
TZOFFSETFROM:-0400
TZOFFSETTO:-0500
TZNAME:EST
DTSTART:20221106T060000
END:STANDARD
BEGIN:DAYLIGHT
TZOFFSETFROM:-0500
TZOFFSETTO:-0400
TZNAME:EDT
DTSTART:20230312T070000
END:DAYLIGHT
BEGIN:STANDARD
TZOFFSETFROM:-0400
TZOFFSETTO:-0500
TZNAME:EST
DTSTART:20231105T060000
END:STANDARD
END:VTIMEZONE
BEGIN:VEVENT
DTSTART;TZID=America/New_York:20220209T190000
DTEND;TZID=America/New_York:20220209T203000
DTSTAMP:20260421T043212
CREATED:20220202T214723Z
LAST-MODIFIED:20220202T214746Z
UID:10000086-1644433200-1644438600@usheartlandchina.org
SUMMARY:Global Pandemic Response: What's Next?
DESCRIPTION:The pandemic has challenged healthcare systems around the world. Global responses to the pandemic has been so uneven and varied that it may feel like we are living through a giant experiment everywhere\, despite a shared understanding of the science. \nNow in its third year\, what have we leaned? What is the next? What choices do we have? How do we balance the social and economic dimensions with managing the health and health system impacts? \nWe have gathered experts from different countries to share lessons learned under different healthcare systems to shed light on the potential best path forward. \n\nFebruary 9th\, 2022\n\n7-8:30pm EST\n\nClick Here to register.
URL:https://usheartlandchina.org/events/global-pandemic-response-whats-next/
CATEGORIES:Way Forward Webinars
ATTACH;FMTTYPE=image/jpeg:https://usheartlandchina.org/wp-content/uploads/2022/01/Global-Pandemic-Response_banner_FINAL-e1704926903737.jpg
ORGANIZER;CN="United States Heartland China Association":MAILTO:webinars@usheartlandchina.org
END:VEVENT
BEGIN:VEVENT
DTSTART;TZID=America/New_York:20220210T100000
DTEND;TZID=America/New_York:20220210T110000
DTSTAMP:20260421T043212
CREATED:20220202T214943Z
LAST-MODIFIED:20220202T214943Z
UID:10000085-1644487200-1644490800@usheartlandchina.org
SUMMARY:USHCA Member Forum
DESCRIPTION:Exclusive organizational updates\, preview of upcoming programs\, networking time\, and open discussions are some of the typical agenda items for our monthly Member Forum. \nIf you are already a member\, watch for the invite in your inbox. \nInterested in joining as a USHCA member? Learn more about our membership options by clicking here. \n\nFebruary 10th\, 2022 \n10-11:00am EST
URL:https://usheartlandchina.org/events/ushca-member-forum/
CATEGORIES:Member Forums
ORGANIZER;CN="United States Heartland China Association":MAILTO:webinars@usheartlandchina.org
END:VEVENT
BEGIN:VEVENT
DTSTART;TZID=America/New_York:20220211T210000
DTEND;TZID=America/New_York:20220211T220000
DTSTAMP:20260421T043212
CREATED:20220208T023433Z
LAST-MODIFIED:20220208T023433Z
UID:10000098-1644613200-1644616800@usheartlandchina.org
SUMMARY:Third Space Story Circle
DESCRIPTION:立春 “Start of Spring” Story Circle\nPROMPT #1：\nTell the story that explains why you came to choose your major/area of study. \nPROMPT #2:\nTell us a moment when someone helped you when you were new to a foreign or unfamiliar setting. Why was this experience meaningful to you\, and what did you learn from the experience? \n\nFebruary 11th\, 2022 \n9-10pm EST\n  \nClick here to register.
URL:https://usheartlandchina.org/events/third-space-story-circle-2/
CATEGORIES:Third Space Story Circle
ORGANIZER;CN="United States Heartland China Association":MAILTO:webinars@usheartlandchina.org
END:VEVENT
BEGIN:VEVENT
DTSTART;TZID=America/New_York:20220224T190000
DTEND;TZID=America/New_York:20220224T200000
DTSTAMP:20260421T043212
CREATED:20220202T215456Z
LAST-MODIFIED:20220221T234130Z
UID:10000084-1645729200-1645732800@usheartlandchina.org
SUMMARY:You're Hired: A Virtual Discussion on Seeking Jobs
DESCRIPTION:The struggle of securing employment during a pandemic is hard – especially for foreign- born job applicants. Moreover\, finding a helpful guide to navigate that process is even harder! This special event will feature USHCA’s next spotlighted author whose book is being touted as a “tremendous asset” for foreign-born applicants seeking employment. \nJoin USHCA for our fourth author event as we invite Betsy H. Cohen to discuss her first book “Welcome to the U.S.A.-You’re Hired!: A Guide for Foreign-Born People Seeking Jobs.” Betsy has mentored and advised international students\, international executives\, and many foreign-born people for their job searches and career advancement. The event will also feature special panelist USHCA board member Qiaoni “Linda” Jing\, a former international student from China herself who is now the CEO of Genective\, a global AgTech company headquartered in the U.S. \nStudents and faculty who are interested in getting their copy of “You’re Hired!” can buy directly from USHCA and also receive a free year of USHCA membership! A limited number of books are available\, so please email Jason Conley ASAP or by 2/17 at jconley@usheartlandchina.org. \n  \nClick here to register. \nFebruary 24th\, 2022\n7-8:00pm EST
URL:https://usheartlandchina.org/events/youre-hired-a-virtual-discussion-on-seeking-jobs/
CATEGORIES:Author Events
ATTACH;FMTTYPE=image/png:https://usheartlandchina.org/wp-content/uploads/2022/01/Youre-Hired-Social-Banner-v3.png
ORGANIZER;CN="United States Heartland China Association":MAILTO:webinars@usheartlandchina.org
END:VEVENT
END:VCALENDAR